BEGIN:VCALENDAR
VERSION:2.0
PRODID:-//Tangodiffusion - ECPv6.15.20//NONSGML v1.0//EN
CALSCALE:GREGORIAN
METHOD:PUBLISH
X-ORIGINAL-URL:https://tangodiffusion.fr
X-WR-CALDESC:Évènements pour Tangodiffusion
REFRESH-INTERVAL;VALUE=DURATION:PT1H
X-Robots-Tag:noindex
X-PUBLISHED-TTL:PT1H
BEGIN:VTIMEZONE
TZID:Europe/Helsinki
BEGIN:DAYLIGHT
TZOFFSETFROM:+0200
TZOFFSETTO:+0300
TZNAME:EEST
DTSTART:20230326T010000
END:DAYLIGHT
BEGIN:STANDARD
TZOFFSETFROM:+0300
TZOFFSETTO:+0200
TZNAME:EET
DTSTART:20231029T010000
END:STANDARD
BEGIN:DAYLIGHT
TZOFFSETFROM:+0200
TZOFFSETTO:+0300
TZNAME:EEST
DTSTART:20240331T010000
END:DAYLIGHT
BEGIN:STANDARD
TZOFFSETFROM:+0300
TZOFFSETTO:+0200
TZNAME:EET
DTSTART:20241027T010000
END:STANDARD
BEGIN:DAYLIGHT
TZOFFSETFROM:+0200
TZOFFSETTO:+0300
TZNAME:EEST
DTSTART:20250330T010000
END:DAYLIGHT
BEGIN:STANDARD
TZOFFSETFROM:+0300
TZOFFSETTO:+0200
TZNAME:EET
DTSTART:20251026T010000
END:STANDARD
END:VTIMEZONE
BEGIN:VEVENT
DTSTART;TZID=Europe/Helsinki:20240302T203000
DTEND;TZID=Europe/Helsinki:20240303T013000
DTSTAMP:20260423T165249
CREATED:20240227T125828Z
LAST-MODIFIED:20240228T201445Z
UID:4672-1709411400-1709429400@tangodiffusion.fr
SUMMARY:Milonga Mágica à la Bobine à Aubenas
DESCRIPTION:Grande Milonga à la Bobine à Aubenas : \n\n\n\nSamedi 2 mars de 20h30 à 1h30 \n\n\n\navec DJ Alice !\n\n\n\n\nPrix d’entrée : 10€\n\n\n\nTarif réduit (rsa\, chomeurs) : -2€ ; Adhérents Tangodiffusion ou Bobine : -2€ \n\n\n\n\n\n\n\n\n\nRepas possible sur place sur réservation avant jeudi soir au 0475937390 (12€) \n\n\n\n\n\n\n\n\n\nInitiation de 19h30 à 20h30 par Thomas\n\n\n\n! Prix libre !  \n\n\n\n\nStage de Tango durant la journée : \n\n\n\n\nSamedi 2 mars de 10h à 18h : Intermédiaires & Avancés.\n\n\n\nDimanche 3 mars de 10h à 18h : Débutants.\n\n\n\n\nInscription par courriel : voir contact. \n\n\n\n\n\n\n\n\n\n\nLa Bobine : \n\n\n\nAdresse : 5\, rue de l’Airette – 07200 Aubenas \n\n\n\n\n\n\nVoir en grand
URL:https://tangodiffusion.fr/evenement/milonga-magiba-a-la-bobine-a-aubenas/
LOCATION:La Bobine\, 5\, rue de l'airette\, Aubenas\, Ardèche\, 07200\, France
CATEGORIES:Milongas
ATTACH;FMTTYPE=image/png:https://tangodiffusion.fr/wp-content/uploads/2024/02/Affiche-Milonga-Magica-Bobine-2-mars-2024-recto.png
END:VEVENT
BEGIN:VEVENT
DTSTART;TZID=Europe/Helsinki:20240309T200000
DTEND;TZID=Europe/Helsinki:20240310T000000
DTSTAMP:20260423T165249
CREATED:20240227T131233Z
LAST-MODIFIED:20240227T131506Z
UID:4679-1710014400-1710028800@tangodiffusion.fr
SUMMARY:Milonga chez Roberta à Alboussière
DESCRIPTION:Pour continuer sur la bonne énergie\, on vous propose tous les mois une Milonga samedi soir dans la Magnifique Salle du Trouillet à Alboussière (20 minutes de Valence) \n\n\n\nAvec DJ  qui vous régalera d’une musique traditionnelle avec des surprises… \n\n\n\n\nPizzas italiennes possibles à 19h30 sur réservation (15€) !\n\n\n\nHébergement possible sur place dans le magnifique gîte attenant  (demande ici : info@letrouillet.com) !\n\n\n\nMilonga à partir de 20h30\, jusqu’à 01h30.\n\n\n\nInitiation de 19h à 20h pour faire découvrir à vos amis !\n\n\n\n\nLa journée est précédée d’un Stage inter & avancé sur la journée. Le lendemain dimanche : Stage débutants. \n\n\n\n\nAdresse : Le Trouillet 07440 Alboussière (suivre le panneau vert avec le mouton) : \n\n\nVoir en grand
URL:https://tangodiffusion.fr/evenement/milonga-chez-roberta-a-alboussiere/
LOCATION:Ardèche
CATEGORIES:Milongas
ATTACH;FMTTYPE=image/jpeg:https://tangodiffusion.fr/wp-content/uploads/2024/01/Stage_Trouillet_2022_2253-scaled.jpg
END:VEVENT
END:VCALENDAR