BEGIN:VCALENDAR
VERSION:2.0
PRODID:-//Tangodiffusion - ECPv6.15.20//NONSGML v1.0//EN
CALSCALE:GREGORIAN
METHOD:PUBLISH
X-ORIGINAL-URL:https://tangodiffusion.fr
X-WR-CALDESC:Évènements pour Tangodiffusion
REFRESH-INTERVAL;VALUE=DURATION:PT1H
X-Robots-Tag:noindex
X-PUBLISHED-TTL:PT1H
BEGIN:VTIMEZONE
TZID:Europe/Helsinki
BEGIN:DAYLIGHT
TZOFFSETFROM:+0200
TZOFFSETTO:+0300
TZNAME:EEST
DTSTART:20230326T010000
END:DAYLIGHT
BEGIN:STANDARD
TZOFFSETFROM:+0300
TZOFFSETTO:+0200
TZNAME:EET
DTSTART:20231029T010000
END:STANDARD
BEGIN:DAYLIGHT
TZOFFSETFROM:+0200
TZOFFSETTO:+0300
TZNAME:EEST
DTSTART:20240331T010000
END:DAYLIGHT
BEGIN:STANDARD
TZOFFSETFROM:+0300
TZOFFSETTO:+0200
TZNAME:EET
DTSTART:20241027T010000
END:STANDARD
BEGIN:DAYLIGHT
TZOFFSETFROM:+0200
TZOFFSETTO:+0300
TZNAME:EEST
DTSTART:20250330T010000
END:DAYLIGHT
BEGIN:STANDARD
TZOFFSETFROM:+0300
TZOFFSETTO:+0200
TZNAME:EET
DTSTART:20251026T010000
END:STANDARD
END:VTIMEZONE
BEGIN:VEVENT
DTSTART;TZID=Europe/Helsinki:20240601T203000
DTEND;TZID=Europe/Helsinki:20240602T013000
DTSTAMP:20260423T135148
CREATED:20240315T123137Z
LAST-MODIFIED:20240519T222248Z
UID:4775-1717273800-1717291800@tangodiffusion.fr
SUMMARY:Milonga Mágica à Aubenas
DESCRIPTION:Grande Milonga à la Bobine à Aubenas : \n\n\n\nSamedi 1er juin de 20h30 à 1h30\n\n\n\navec DJ !\n\n\n\n\nPrix d’entrée : 10€\n\n\n\nTarif réduit (rsa\, chomeurs) : -2€ ; Adhérents Tangodiffusion ou Bobine : -2€ \n\n\n\n\n\n\n\n\n\nRepas possible sur place sur réservation avant jeudi soir au 0475937390 (12€) \n\n\n\n\n\n\n\n\n\nInitiation de 19h30 à 20h30 par Thomas\n\n\n\n! Prix libre !  \n\n\n\n\nStage de Tango durant la journée : \n\n\n\n\nSamedi de 10h à 18h : Intermédiaires & Avancés.\n\n\n\nDimanche de 10h à 18h : Débutants.\n\n\n\n\nInscription par courriel : voir contact. \n\n\n\n\n\n\n\n\n\n\nLa Bobine : \n\n\n\nAdresse : 5\, rue de l’Airette – 07200 Aubenas \n\n\n\n\n\n\nVoir en grand
URL:https://tangodiffusion.fr/evenement/milonga-magica-a-aubenas-2/
LOCATION:Ardèche
CATEGORIES:Milongas
ATTACH;FMTTYPE=image/jpeg:https://tangodiffusion.fr/wp-content/uploads/2024/03/Affiche-Milonga-Magica-1er-juin-2024.jpeg
END:VEVENT
END:VCALENDAR